BEGIN:VCALENDAR
VERSION:2.0
PRODID:-//NMCAA - ECPv6.15.20//NONSGML v1.0//EN
CALSCALE:GREGORIAN
METHOD:PUBLISH
X-WR-CALNAME:NMCAA
X-ORIGINAL-URL:https://nmcaa.net
X-WR-CALDESC:Events for NMCAA
REFRESH-INTERVAL;VALUE=DURATION:PT1H
X-Robots-Tag:noindex
X-PUBLISHED-TTL:PT1H
BEGIN:VTIMEZONE
TZID:America/Detroit
BEGIN:DAYLIGHT
TZOFFSETFROM:-0500
TZOFFSETTO:-0400
TZNAME:EDT
DTSTART:20240310T070000
END:DAYLIGHT
BEGIN:STANDARD
TZOFFSETFROM:-0400
TZOFFSETTO:-0500
TZNAME:EST
DTSTART:20241103T060000
END:STANDARD
BEGIN:DAYLIGHT
TZOFFSETFROM:-0500
TZOFFSETTO:-0400
TZNAME:EDT
DTSTART:20250309T070000
END:DAYLIGHT
BEGIN:STANDARD
TZOFFSETFROM:-0400
TZOFFSETTO:-0500
TZNAME:EST
DTSTART:20251102T060000
END:STANDARD
BEGIN:DAYLIGHT
TZOFFSETFROM:-0500
TZOFFSETTO:-0400
TZNAME:EDT
DTSTART:20260308T070000
END:DAYLIGHT
BEGIN:STANDARD
TZOFFSETFROM:-0400
TZOFFSETTO:-0500
TZNAME:EST
DTSTART:20261101T060000
END:STANDARD
END:VTIMEZONE
BEGIN:VEVENT
DTSTART;TZID=America/Detroit:20251011T090000
DTEND;TZID=America/Detroit:20251011T153000
DTSTAMP:20260420T061318
CREATED:20250918T170202Z
LAST-MODIFIED:20250918T170202Z
UID:13933-1760173200-1760196600@nmcaa.net
SUMMARY:Homebuyer Education Workshop
DESCRIPTION:NMCAA’s Homebuyer Education workshop is led by HUD-Certified Budget and Housing Counselors\,\nalong with regional experts who provide personalized guidance throughout the homebuying process.\nParticipants gain knowledge on improving credit scores\, understanding different types of mortgages\,\nand getting pre-qualified. The workshop also covers what to expect when shopping for a home\, how to\nprepare for closing\, and the responsibilities of sustainable homeownership. With the opportunity for\nindividual support\, this course equips first-time buyers with the tools and confidence needed to\nsuccessfully transition into homeownership. \nCost: $75 per household or $100 for the self-paced option.
URL:https://nmcaa.net/event/homebuyer-education-workshop-3/
LOCATION:Virtual
CATEGORIES:Homeownership and Financial Center
ORGANIZER;CN="Northwest Michigan Community Action Agency":MAILTO:receptionteam@nmcaa.net
END:VEVENT
BEGIN:VEVENT
DTSTART;TZID=America/Detroit:20250116T123000
DTEND;TZID=America/Detroit:20250116T140000
DTSTAMP:20260420T061318
CREATED:20250113T182641Z
LAST-MODIFIED:20250113T182641Z
UID:13543-1737030600-1737036000@nmcaa.net
SUMMARY:Board of Directors Meeting
DESCRIPTION:
URL:https://nmcaa.net/event/board-of-directors-meeting/
LOCATION:Northwest Michigan Community Action Agency\, 3963 Three Mile Road\, Traverse City\, MI\, 49684\, United States
CATEGORIES:Board of Directors
ORGANIZER;CN="Northwest Michigan Community Action Agency":MAILTO:receptionteam@nmcaa.net
END:VEVENT
BEGIN:VEVENT
DTSTART;TZID=America/Detroit:20251025T090000
DTEND;TZID=America/Detroit:20251025T153000
DTSTAMP:20260420T061318
CREATED:20250918T153913Z
LAST-MODIFIED:20250918T153913Z
UID:13924-1761382800-1761406200@nmcaa.net
SUMMARY:Money Management Workshop
DESCRIPTION:NMCAA’s Money Management workshop provides the tools you need to take control of your financial future. Participants learn how to create a realistic spending plan\, improve credit ratios\, reduce debt\, and build savings for long-term stability. The course also covers insurance\, banking basics\, student loans\, consumer protection\, and fair housing\, giving households a well-rounded understanding of financial wellness. With practical strategies and expert guidance\, this workshop helps families build confidence in\nmanaging money and planning ahead. \nThe cost is $20 per household or $50 for the self-paced option. \nClick here to register!
URL:https://nmcaa.net/event/money-management-workshop-2/
LOCATION:Virtual
CATEGORIES:Homeownership and Financial Center
ORGANIZER;CN="Northwest Michigan Community Action Agency":MAILTO:receptionteam@nmcaa.net
END:VEVENT
END:VCALENDAR